BEGIN:VCALENDAR
VERSION:2.0
PRODID:icalendar-ruby
CALSCALE:GREGORIAN
METHOD:PUBLISH
X-WR-CALNAME:Canada Winter Games Trials Presented By Mantioba Pork - U18 Wo
 men Schedule
BEGIN:VTIMEZONE
TZID:America/Chicago
BEGIN:DAYLIGHT
DTSTART:20260308T030000
TZOFFSETFROM:-0600
TZOFFSETTO:-0500
RRULE:FREQ=YEARLY;BYDAY=2SU;BYMONTH=3
TZNAME:CDT
END:DAYLIGHT
BEGIN:STANDARD
DTSTART:20261101T010000
TZOFFSETFROM:-0500
TZOFFSETTO:-0600
RRULE:FREQ=YEARLY;BYDAY=1SU;BYMONTH=11
TZNAME:CST
END:STANDARD
END:VTIMEZONE
BEGIN:VEVENT
DTSTAMP:20260423T112319Z
UID:drawid:210377
DTSTART:20260416T160000
DTEND:20260416T180000
DESCRIPTION:Games: \, \, \, 
LOCATION:145 Pacific Avenue\, Winnipeg\, R3B 2Z6\, MB\, CA
SEQUENCE:1776943399
SUMMARY:Canada Winter Games Trials Presented By Mantioba Pork - U18 Women
URL;VALUE=URI:https://mb.curling.io/en/events/23731-canada-winter-games-tri
 als-presented-by-mantioba-pork-u18-women/draws
END:VEVENT
BEGIN:VEVENT
DTSTAMP:20260423T112319Z
UID:drawid:210378
DTSTART:20260417T090000
DTEND:20260417T110000
DESCRIPTION:Games: \, \, \, 
LOCATION:145 Pacific Avenue\, Winnipeg\, R3B 2Z6\, MB\, CA
SEQUENCE:1776943399
SUMMARY:Canada Winter Games Trials Presented By Mantioba Pork - U18 Women
URL;VALUE=URI:https://mb.curling.io/en/events/23731-canada-winter-games-tri
 als-presented-by-mantioba-pork-u18-women/draws
END:VEVENT
BEGIN:VEVENT
DTSTAMP:20260423T112319Z
UID:drawid:210379
DTSTART:20260417T160000
DTEND:20260417T180000
DESCRIPTION:Games: \, \, \, 
LOCATION:145 Pacific Avenue\, Winnipeg\, R3B 2Z6\, MB\, CA
SEQUENCE:1776943399
SUMMARY:Canada Winter Games Trials Presented By Mantioba Pork - U18 Women
URL;VALUE=URI:https://mb.curling.io/en/events/23731-canada-winter-games-tri
 als-presented-by-mantioba-pork-u18-women/draws
END:VEVENT
BEGIN:VEVENT
DTSTAMP:20260423T112319Z
UID:drawid:210380
DTSTART:20260418T090000
DTEND:20260418T110000
DESCRIPTION:Games: \, \, \, 
LOCATION:145 Pacific Avenue\, Winnipeg\, R3B 2Z6\, MB\, CA
SEQUENCE:1776943399
SUMMARY:Canada Winter Games Trials Presented By Mantioba Pork - U18 Women
URL;VALUE=URI:https://mb.curling.io/en/events/23731-canada-winter-games-tri
 als-presented-by-mantioba-pork-u18-women/draws
END:VEVENT
BEGIN:VEVENT
DTSTAMP:20260423T112319Z
UID:drawid:210381
DTSTART:20260418T160000
DTEND:20260418T180000
DESCRIPTION:Games: \, \, \, 
LOCATION:145 Pacific Avenue\, Winnipeg\, R3B 2Z6\, MB\, CA
SEQUENCE:1776943399
SUMMARY:Canada Winter Games Trials Presented By Mantioba Pork - U18 Women
URL;VALUE=URI:https://mb.curling.io/en/events/23731-canada-winter-games-tri
 als-presented-by-mantioba-pork-u18-women/draws
END:VEVENT
BEGIN:VEVENT
DTSTAMP:20260423T112319Z
UID:drawid:210382
DTSTART:20260418T193000
DTEND:20260418T213000
DESCRIPTION:Games: Game 2 - 2nd vs 2nd
LOCATION:145 Pacific Avenue\, Winnipeg\, R3B 2Z6\, MB\, CA
SEQUENCE:1776943399
SUMMARY:Canada Winter Games Trials Presented By Mantioba Pork - U18 Women
URL;VALUE=URI:https://mb.curling.io/en/events/23731-canada-winter-games-tri
 als-presented-by-mantioba-pork-u18-women/draws
END:VEVENT
BEGIN:VEVENT
DTSTAMP:20260423T112319Z
UID:drawid:210383
DTSTART:20260419T090000
DTEND:20260419T110000
DESCRIPTION:Games: Game 1 - 1st vs 1st
LOCATION:145 Pacific Avenue\, Winnipeg\, R3B 2Z6\, MB\, CA
SEQUENCE:1776943399
SUMMARY:Canada Winter Games Trials Presented By Mantioba Pork - U18 Women
URL;VALUE=URI:https://mb.curling.io/en/events/23731-canada-winter-games-tri
 als-presented-by-mantioba-pork-u18-women/draws
END:VEVENT
BEGIN:VEVENT
DTSTAMP:20260423T112319Z
UID:drawid:210384
DTSTART:20260419T133000
DTEND:20260419T153000
DESCRIPTION:Games: Semi Final
LOCATION:145 Pacific Avenue\, Winnipeg\, R3B 2Z6\, MB\, CA
SEQUENCE:1776943399
SUMMARY:Canada Winter Games Trials Presented By Mantioba Pork - U18 Women
URL;VALUE=URI:https://mb.curling.io/en/events/23731-canada-winter-games-tri
 als-presented-by-mantioba-pork-u18-women/draws
END:VEVENT
BEGIN:VEVENT
DTSTAMP:20260423T112319Z
UID:drawid:210385
DTSTART:20260419T170000
DTEND:20260419T190000
DESCRIPTION:Games: Final
LOCATION:145 Pacific Avenue\, Winnipeg\, R3B 2Z6\, MB\, CA
SEQUENCE:1776943399
SUMMARY:Canada Winter Games Trials Presented By Mantioba Pork - U18 Women
URL;VALUE=URI:https://mb.curling.io/en/events/23731-canada-winter-games-tri
 als-presented-by-mantioba-pork-u18-women/draws
END:VEVENT
END:VCALENDAR
