BEGIN:VCALENDAR
VERSION:2.0
PRODID:icalendar-ruby
CALSCALE:GREGORIAN
METHOD:PUBLISH
X-WR-CALNAME:Canada Winter Games Trials Presented by Manitoba Pork - U18 Me
 n Schedule
BEGIN:VTIMEZONE
TZID:America/Chicago
BEGIN:DAYLIGHT
DTSTART:20260308T030000
TZOFFSETFROM:-0600
TZOFFSETTO:-0500
RRULE:FREQ=YEARLY;BYDAY=2SU;BYMONTH=3
TZNAME:CDT
END:DAYLIGHT
BEGIN:STANDARD
DTSTART:20261101T010000
TZOFFSETFROM:-0500
TZOFFSETTO:-0600
RRULE:FREQ=YEARLY;BYDAY=1SU;BYMONTH=11
TZNAME:CST
END:STANDARD
END:VTIMEZONE
BEGIN:VEVENT
DTSTAMP:20260423T112319Z
UID:drawid:210324
DTSTART:20260416T123000
DTEND:20260416T143000
DESCRIPTION:Games: \, \, 
LOCATION:145 Pacific Avenue\, Winnipeg\, R3B 2Z6\, MB\, CA
SEQUENCE:1776943399
SUMMARY:Canada Winter Games Trials Presented by Manitoba Pork - U18 Men
URL;VALUE=URI:https://mb.curling.io/en/events/23730-canada-winter-games-tri
 als-presented-by-manitoba-pork-u18-men/draws
END:VEVENT
BEGIN:VEVENT
DTSTAMP:20260423T112319Z
UID:drawid:210325
DTSTART:20260416T193000
DTEND:20260416T213000
DESCRIPTION:Games: \, \, 
LOCATION:145 Pacific Avenue\, Winnipeg\, R3B 2Z6\, MB\, CA
SEQUENCE:1776943399
SUMMARY:Canada Winter Games Trials Presented by Manitoba Pork - U18 Men
URL;VALUE=URI:https://mb.curling.io/en/events/23730-canada-winter-games-tri
 als-presented-by-manitoba-pork-u18-men/draws
END:VEVENT
BEGIN:VEVENT
DTSTAMP:20260423T112319Z
UID:drawid:210326
DTSTART:20260417T123000
DTEND:20260417T143000
DESCRIPTION:Games: \, \, 
LOCATION:145 Pacific Avenue\, Winnipeg\, R3B 2Z6\, MB\, CA
SEQUENCE:1776943399
SUMMARY:Canada Winter Games Trials Presented by Manitoba Pork - U18 Men
URL;VALUE=URI:https://mb.curling.io/en/events/23730-canada-winter-games-tri
 als-presented-by-manitoba-pork-u18-men/draws
END:VEVENT
BEGIN:VEVENT
DTSTAMP:20260423T112319Z
UID:drawid:210327
DTSTART:20260417T193000
DTEND:20260417T213000
DESCRIPTION:Games: \, \, 
LOCATION:145 Pacific Avenue\, Winnipeg\, R3B 2Z6\, MB\, CA
SEQUENCE:1776943399
SUMMARY:Canada Winter Games Trials Presented by Manitoba Pork - U18 Men
URL;VALUE=URI:https://mb.curling.io/en/events/23730-canada-winter-games-tri
 als-presented-by-manitoba-pork-u18-men/draws
END:VEVENT
BEGIN:VEVENT
DTSTAMP:20260423T112319Z
UID:drawid:210328
DTSTART:20260418T123000
DTEND:20260418T143000
DESCRIPTION:Games: \, \, 
LOCATION:145 Pacific Avenue\, Winnipeg\, R3B 2Z6\, MB\, CA
SEQUENCE:1776943399
SUMMARY:Canada Winter Games Trials Presented by Manitoba Pork - U18 Men
URL;VALUE=URI:https://mb.curling.io/en/events/23730-canada-winter-games-tri
 als-presented-by-manitoba-pork-u18-men/draws
END:VEVENT
BEGIN:VEVENT
DTSTAMP:20260423T112319Z
UID:drawid:210329
DTSTART:20260418T193000
DTEND:20260418T213000
DESCRIPTION:Games: \, \, 
LOCATION:145 Pacific Avenue\, Winnipeg\, R3B 2Z6\, MB\, CA
SEQUENCE:1776943399
SUMMARY:Canada Winter Games Trials Presented by Manitoba Pork - U18 Men
URL;VALUE=URI:https://mb.curling.io/en/events/23730-canada-winter-games-tri
 als-presented-by-manitoba-pork-u18-men/draws
END:VEVENT
BEGIN:VEVENT
DTSTAMP:20260423T112319Z
UID:drawid:210330
DTSTART:20260419T090000
DTEND:20260419T110000
DESCRIPTION:Games: \, \, 
LOCATION:145 Pacific Avenue\, Winnipeg\, R3B 2Z6\, MB\, CA
SEQUENCE:1776943399
SUMMARY:Canada Winter Games Trials Presented by Manitoba Pork - U18 Men
URL;VALUE=URI:https://mb.curling.io/en/events/23730-canada-winter-games-tri
 als-presented-by-manitoba-pork-u18-men/draws
END:VEVENT
BEGIN:VEVENT
DTSTAMP:20260423T112319Z
UID:drawid:210331
DTSTART:20260419T133000
DTEND:20260419T153000
DESCRIPTION:Games: Semi Final - 2nd vs 3rd
LOCATION:145 Pacific Avenue\, Winnipeg\, R3B 2Z6\, MB\, CA
SEQUENCE:1776943399
SUMMARY:Canada Winter Games Trials Presented by Manitoba Pork - U18 Men
URL;VALUE=URI:https://mb.curling.io/en/events/23730-canada-winter-games-tri
 als-presented-by-manitoba-pork-u18-men/draws
END:VEVENT
BEGIN:VEVENT
DTSTAMP:20260423T112319Z
UID:drawid:210332
DTSTART:20260419T170000
DTEND:20260419T190000
DESCRIPTION:Games: Final - 1st place vs semi winner
LOCATION:145 Pacific Avenue\, Winnipeg\, R3B 2Z6\, MB\, CA
SEQUENCE:1776943399
SUMMARY:Canada Winter Games Trials Presented by Manitoba Pork - U18 Men
URL;VALUE=URI:https://mb.curling.io/en/events/23730-canada-winter-games-tri
 als-presented-by-manitoba-pork-u18-men/draws
END:VEVENT
END:VCALENDAR
